Workbook

Sheet Sheet1 
A1: 叶城县2026年第七批参加摇号公共租赁住房房源信息
A2: 序号 | B2: 楼盘名称 | C2: 栋号 | D2: 房屋名称 | E2: 房号 | F2: 房屋面积 | G2: 户型
A3: 1 | B3: 晨光小区 | C3: 1 | D3: 1-601 | E3: 晨光小区1-1-601 | F3: 49.03 | G3: =_xlfn.XLOOKUP(E3,[1]总表!$G:$G,[1]总表!$K:$K,,0,1) -> 两室一厅
A4: 2 | B4: 晨光小区 | C4: 2 | D4: 1-102 | E4: 晨光小区2-1-102 | F4: 49.68 | G4: =_xlfn.XLOOKUP(E4,[1]总表!$G:$G,[1]总表!$K:$K,,0,1) -> 两室一厅
A5: 3 | B5: 晨光小区 | C5: 2 | D5: 1-402 | E5: 晨光小区2-1-402 | F5: 49.68 | G5: =_xlfn.XLOOKUP(E5,[1]总表!$G:$G,[1]总表!$K:$K,,0,1) -> 两室一厅
A6: 4 | B6: 晨光小区 | C6: 3 | D6: 3-602 | E6: 晨光小区3-3-602 | F6: 49.68 | G6: =_xlfn.XLOOKUP(E6,[1]总表!$G:$G,[1]总表!$K:$K,,0,1) -> 两室一厅
A7: 5 | B7: 晨光小区 | C7: 3 | D7: 5-304 | E7: 晨光小区3-5-304 | F7: 49.03 | G7: =_xlfn.XLOOKUP(E7,[1]总表!$G:$G,[1]总表!$K:$K,,0,1) -> 两室一厅
A8: 6 | B8: 晨光小区 | C8: 5 | D8: 3-103 | E8: 晨光小区5-3-103 | F8: 49.68 | G8: =_xlfn.XLOOKUP(E8,[1]总表!$G:$G,[1]总表!$K:$K,,0,1) -> 两室一厅
A9: 7 | B9: 晨光小区 | C9: 6 | D9: 1-104 | E9: 晨光小区6-1-104 | F9: 49.03 | G9: =_xlfn.XLOOKUP(E9,[1]总表!$G:$G,[1]总表!$K:$K,,0,1) -> 两室一厅
A10: 8 | B10: 晨光小区 | C10: 6 | D10: 3-104 | E10: 晨光小区6-3-104 | F10: 49.03 | G10: =_xlfn.XLOOKUP(E10,[1]总表!$G:$G,[1]总表!$K:$K,,0,1) -> 两室一厅
A11: 9 | B11: 东城A区 | C11: 1 | D11: 1-602 | E11: 东城A区1-1-602 | F11: 49.91 | G11: =_xlfn.XLOOKUP(E11,[1]总表!$G:$G,[1]总表!$K:$K,,0,1) -> 两室一厅
A12: 10 | B12: 东城A区 | C12: 4 | D12: 6-301 | E12: 东城A区4-6-301 | F12: 51.23 | G12: =_xlfn.XLOOKUP(E12,[1]总表!$G:$G,[1]总表!$K:$K,,0,1) -> 两室一厅
A13: 11 | B13: 东城A区 | C13: 5 | D13: 4-603 | E13: 东城A区5-4-603 | F13: 51.36 | G13: =_xlfn.XLOOKUP(E13,[1]总表!$G:$G,[1]总表!$K:$K,,0,1) -> 两室一厅
A14: 12 | B14: 东城A区 | C14: 6 | D14: 4-602 | E14: 东城A区6-4-602 | F14: 49.99 | G14: =_xlfn.XLOOKUP(E14,[1]总表!$G:$G,[1]总表!$K:$K,,0,1) -> 两室一厅
... A274: 272 | B274: 永安B区 | C274: 16 | D274: 3-304 | E274: 永安B区16-3-304 | F274: 38.94 | G274: =_xlfn.XLOOKUP(E274,[1]总表!$G:$G,[1]总表!$K:$K,,0,1) -> 一室一厅
A275: 273 | B275: 南城A区 | C275: 1 | D275: 1-303 | E275: 南城A区1-1-303 | F275: 37.66 | G275: =_xlfn.XLOOKUP(E275,[1]总表!$G:$G,[1]总表!$K:$K,,0,1) -> 一室一厅
A276: 274 | B276: 南城A区 | C276: 3 | D276: 2-502 | E276: 南城A区3-2-502 | F276: 37.66 | G276: =_xlfn.XLOOKUP(E276,[1]总表!$G:$G,[1]总表!$K:$K,,0,1) -> 一室一厅
A277: 275 | B277: 南城A区 | C277: 4 | D277: 2-504 | E277: 南城A区4-2-504 | F277: 38.94 | G277: =_xlfn.XLOOKUP(E277,[1]总表!$G:$G,[1]总表!$K:$K,,0,1) -> 一室一厅
A278: 276 | B278: 南城A区 | C278: 4 | D278: 3-302 | E278: 南城A区4-3-302 | F278: 37.66 | G278: =_xlfn.XLOOKUP(E278,[1]总表!$G:$G,[1]总表!$K:$K,,0,1) -> 一室一厅
A279: 277 | B279: 南城A区 | C279: 5 | D279: 2-203 | E279: 南城A区5-2-203 | F279: 37.66 | G279: =_xlfn.XLOOKUP(E279,[1]总表!$G:$G,[1]总表!$K:$K,,0,1) -> 一室一厅
A280: 278 | B280: 南城A区 | C280: 6 | D280: 1-201 | E280: 南城A区6-1-201 | F280: 38.94 | G280: =_xlfn.XLOOKUP(E280,[1]总表!$G:$G,[1]总表!$K:$K,,0,1) -> 一室一厅
A281: 279 | B281: 南城A区 | C281: 8 | D281: 2-103 | E281: 南城A区8-2-103 | F281: 37.66 | G281: =_xlfn.XLOOKUP(E281,[1]总表!$G:$G,[1]总表!$K:$K,,0,1) -> 一室一厅
A282: 280 | B282: 南城A区 | C282: 10 | D282: 1-202 | E282: 南城A区10-1-202 | F282: 37.66 | G282: =_xlfn.XLOOKUP(E282,[1]总表!$G:$G,[1]总表!$K:$K,,0,1) -> 一室一厅
A283: 281 | B283: 南城A区 | C283: 11 | D283: 3-601 | E283: 南城A区11-3-601 | F283: 38.94 | G283: =_xlfn.XLOOKUP(E283,[1]总表!$G:$G,[1]总表!$K:$K,,0,1) -> 一室一厅
A284: 282 | B284: 南城A区 | C284: 14 | D284: 1-604 | E284: 南城A区14-1-604 | F284: 38.94 | G284: =_xlfn.XLOOKUP(E284,[1]总表!$G:$G,[1]总表!$K:$K,,0,1) -> 一室一厅
A285: 283 | B285: 南城A区 | C285: 14 | D285: 4-603 | E285: 南城A区14-4-603 | F285: 37.66 | G285: =_xlfn.XLOOKUP(E285,[1]总表!$G:$G,[1]总表!$K:$K,,0,1) -> 一室一厅
A286: 284 | B286: 南城A区 | C286: 15 | D286: 1-101 | E286: 南城A区15-1-101 | F286: 38.94 | G286: =_xlfn.XLOOKUP(E286,[1]总表!$G:$G,[1]总表!$K:$K,,0,1) -> 一室一厅
... A310: 308 | B310: 南城B区 | C310: 24 | D310: 2-101 | E310: 南城B区24-2-101 | F310: 38.94 | G310: =_xlfn.XLOOKUP(E310,[1]总表!$G:$G,[1]总表!$K:$K,,0,1) -> 一室一厅
A311: 309 | B311: 石榴B区 | C311: 3 | D311: 1-603 | E311: 石榴B区3-1-603 | F311: 37.66 | G311: =_xlfn.XLOOKUP(E311,[1]总表!$G:$G,[1]总表!$K:$K,,0,1) -> 一室一厅
A312: 310 | B312: 石榴B区 | C312: 5 | D312: 3-403 | E312: 石榴B区5-3-403 | F312: 37.66 | G312: =_xlfn.XLOOKUP(E312,[1]总表!$G:$G,[1]总表!$K:$K,,0,1) -> 一室一厅
